BEGIN:VCALENDAR
VERSION:2.0
PRODID:-//Open Ears - ECPv6.15.20//NONSGML v1.0//EN
CALSCALE:GREGORIAN
METHOD:PUBLISH
X-WR-CALNAME:Open Ears
X-ORIGINAL-URL:https://openears.ca
X-WR-CALDESC:Events for Open Ears
REFRESH-INTERVAL;VALUE=DURATION:PT1H
X-Robots-Tag:noindex
X-PUBLISHED-TTL:PT1H
BEGIN:VTIMEZONE
TZID:America/New_York
BEGIN:DAYLIGHT
TZOFFSETFROM:-0500
TZOFFSETTO:-0400
TZNAME:EDT
DTSTART:20250309T070000
END:DAYLIGHT
BEGIN:STANDARD
TZOFFSETFROM:-0400
TZOFFSETTO:-0500
TZNAME:EST
DTSTART:20251102T060000
END:STANDARD
BEGIN:DAYLIGHT
TZOFFSETFROM:-0500
TZOFFSETTO:-0400
TZNAME:EDT
DTSTART:20260308T070000
END:DAYLIGHT
BEGIN:STANDARD
TZOFFSETFROM:-0400
TZOFFSETTO:-0500
TZNAME:EST
DTSTART:20261101T060000
END:STANDARD
BEGIN:DAYLIGHT
TZOFFSETFROM:-0500
TZOFFSETTO:-0400
TZNAME:EDT
DTSTART:20270314T070000
END:DAYLIGHT
BEGIN:STANDARD
TZOFFSETFROM:-0400
TZOFFSETTO:-0500
TZNAME:EST
DTSTART:20271107T060000
END:STANDARD
END:VTIMEZONE
BEGIN:VEVENT
DTSTART;TZID=America/New_York:20260605T210000
DTEND;TZID=America/New_York:20260605T210000
DTSTAMP:20260421T225414
CREATED:20260401T040031Z
LAST-MODIFIED:20260402T011843Z
UID:2250-1780693200-1780693200@openears.ca
SUMMARY:Mme Caeneus’s Canteen
DESCRIPTION:ANIMA & the Open Ears Festival co-present the world premiere of Mme Caeneus’s Canteen \nA transy chamber opera set in the queer world of Mme Caeneus’s\, a ‘locker club’ in WWII America\, where host/ess Lucy (‘Mme Caeneus’) holds space for transformation in the midst of a polarized world. \n\n\nMadame Caeneus’s Canteen! \n\n\nA beggar can become a queen\,a queen become a corporal\,the corporal can trade his stripesfor civvies of a Friday night — … \n\n\nTwo intersecting gender transitions unfold against the backdrop of the sexual\, gender\, and racial politics of the 1940s U.S. — and beyond that\, against the backdrop of the bronze-age transition story which a group of soldiers are acting out in their ‘blueprint special’ drag revue. \n\n\nA story of queer solidarity\, love\, and chosen family\, this opera resonates in and for our own time. \n\n\nmusic by James Rolfewords by Luke Hathaway with contributions from asitha tennekoon අසිත තෙන්නකෝන්directed by Henry Oswald Peirsonmusical direction by Juliet Palmertechnical direction and lighting design by Jasmine Rajaballeystage management by Paula Bornacellicostume design by Rachel Kaufman Behlingartist-care consultant Claire Yurkovich \n\n\nFeaturing: \n\n\nMartin Gomes (Lucy)asitha tennekoon අසිත තෙන්නකෝන් (Eugene)Lesley Emma Bouza (Remi)Paul Genyk-Berezowsky (Ben)Ryan McDonald (Pat)Daniel Cabena (Bird)and Mme Caeneus’s house band:Phil Albert (electric bass)Richard Burrows (percussion)Juliet Palmer (bandleader/clarinet)Matti Pulkki (accordion)Philipp Samutin (violin) \n\n\nSupported by the Canada Council for the Arts.
URL:https://openears.ca/event/anima-the-open-ears-festival-co-present-the-world-premiere-of-mme-caeneuss-canteen/
LOCATION:The Registry Theatre\, 122 Frederick Street\, Kitchener\, Ontario\, N2H 2L9\, Canada
ATTACH;FMTTYPE=image/jpeg:https://openears.ca/wp-content/uploads/2026/02/2026-Mme-Caeneus.jpg
END:VEVENT
END:VCALENDAR