BEGIN:VCALENDAR
VERSION:2.0
PRODID:-//Open Ears - ECPv6.15.20//NONSGML v1.0//EN
CALSCALE:GREGORIAN
METHOD:PUBLISH
X-WR-CALNAME:Open Ears
X-ORIGINAL-URL:https://openears.ca
X-WR-CALDESC:Events for Open Ears
REFRESH-INTERVAL;VALUE=DURATION:PT1H
X-Robots-Tag:noindex
X-PUBLISHED-TTL:PT1H
BEGIN:VTIMEZONE
TZID:America/New_York
BEGIN:DAYLIGHT
TZOFFSETFROM:-0500
TZOFFSETTO:-0400
TZNAME:EDT
DTSTART:20250309T070000
END:DAYLIGHT
BEGIN:STANDARD
TZOFFSETFROM:-0400
TZOFFSETTO:-0500
TZNAME:EST
DTSTART:20251102T060000
END:STANDARD
BEGIN:DAYLIGHT
TZOFFSETFROM:-0500
TZOFFSETTO:-0400
TZNAME:EDT
DTSTART:20260308T070000
END:DAYLIGHT
BEGIN:STANDARD
TZOFFSETFROM:-0400
TZOFFSETTO:-0500
TZNAME:EST
DTSTART:20261101T060000
END:STANDARD
BEGIN:DAYLIGHT
TZOFFSETFROM:-0500
TZOFFSETTO:-0400
TZNAME:EDT
DTSTART:20270314T070000
END:DAYLIGHT
BEGIN:STANDARD
TZOFFSETFROM:-0400
TZOFFSETTO:-0500
TZNAME:EST
DTSTART:20271107T060000
END:STANDARD
END:VTIMEZONE
BEGIN:VEVENT
DTSTART;TZID=America/New_York:20260607T130000
DTEND;TZID=America/New_York:20260607T130000
DTSTAMP:20260421T224113
CREATED:20260401T040044Z
LAST-MODIFIED:20260331T035542Z
UID:2257-1780837200-1780837200@openears.ca
SUMMARY:Duo Cichorium
DESCRIPTION:Inspired by video games and choose-your-own-adventure storytelling\, The Sylvan Legacy is an unpredictable performance shaped in real time by decisions made by the audience. Using their smart devices\, audience members collectively control musical\, visual\, and narrative elements\, choosing character traits\, determining which paths to follow\, and deciding how the heroes respond in moments of conflict.\nJoin Jester Jaz and Wizard Pino as they journey through the Sylvan Forest in search of treasure for their King. Along the way\, participants can expect cats\, costumes\, and a range of theatrical spectacles in this multimedia production.
URL:https://openears.ca/event/duo-cichorium/
LOCATION:The Registry Theatre\, 122 Frederick Street\, Kitchener\, Ontario\, N2H 2L9\, Canada
ATTACH;FMTTYPE=image/jpeg:https://openears.ca/wp-content/uploads/2026/02/2026-Duo-Cichorium.jpg
END:VEVENT
END:VCALENDAR