BEGIN:VCALENDAR
VERSION:2.0
PRODID:-//Open Ears - ECPv6.15.20//NONSGML v1.0//EN
CALSCALE:GREGORIAN
METHOD:PUBLISH
X-WR-CALNAME:Open Ears
X-ORIGINAL-URL:https://openears.ca
X-WR-CALDESC:Events for Open Ears
REFRESH-INTERVAL;VALUE=DURATION:PT1H
X-Robots-Tag:noindex
X-PUBLISHED-TTL:PT1H
BEGIN:VTIMEZONE
TZID:America/New_York
BEGIN:DAYLIGHT
TZOFFSETFROM:-0500
TZOFFSETTO:-0400
TZNAME:EDT
DTSTART:20250309T070000
END:DAYLIGHT
BEGIN:STANDARD
TZOFFSETFROM:-0400
TZOFFSETTO:-0500
TZNAME:EST
DTSTART:20251102T060000
END:STANDARD
BEGIN:DAYLIGHT
TZOFFSETFROM:-0500
TZOFFSETTO:-0400
TZNAME:EDT
DTSTART:20260308T070000
END:DAYLIGHT
BEGIN:STANDARD
TZOFFSETFROM:-0400
TZOFFSETTO:-0500
TZNAME:EST
DTSTART:20261101T060000
END:STANDARD
BEGIN:DAYLIGHT
TZOFFSETFROM:-0500
TZOFFSETTO:-0400
TZNAME:EDT
DTSTART:20270314T070000
END:DAYLIGHT
BEGIN:STANDARD
TZOFFSETFROM:-0400
TZOFFSETTO:-0500
TZNAME:EST
DTSTART:20271107T060000
END:STANDARD
END:VTIMEZONE
BEGIN:VEVENT
DTSTART;VALUE=DATE:20260604
DTEND;VALUE=DATE:20260608
DTSTAMP:20260421T224236
CREATED:20260401T040054Z
LAST-MODIFIED:20260318T150743Z
UID:2259-1780531200-1780876799@openears.ca
SUMMARY:Hours. Minutes. Seconds. by Peter Hatch
DESCRIPTION:West Coast Radians\, loudspeakers\, recycled iPads\, bark\, leaves\, cardboard.\nHours. Minutes. Seconds. is an audiovisual installation that explores our cultural habit of measuring and counting time. Visitors are invited to step inside what feels like the interior of an unconventional clock mechanism\, where ticks\, tocks\, and other time-related sounds surround and shift as they move through the space.\nAs a composer\, I work as a kind of ‘time sculptor’\, negotiating the different experiences of time I feel when planning a work while understanding how different the time sense will likely feel by those experiencing the work. All of this is measured against ‘clock time’\, often in the form of musical bars and rhythms. Hours. Minutes. Seconds. creates a space in which visitors can sense the relativity of time while remaining aware of clock time as something precisely measured and regulated.\nThe installation’s soundscape draws inspiration from the natural world\, where multiple sound sources coexist in counterpoint. Each occupies its own sonic space\, defined by frequency range and varying levels of activity and density. The sounds combine synthetic elements with recordings from natural environments.\nThis soundscape is accompanied by a series of handmade clocks constructed from natural materials—such as bark\, leaves\, and cardboard—using commercial clock mechanisms alongside digital devices. The digital elements are programmed in Max/MSP.
URL:https://openears.ca/event/hours-minutes-seconds-by-peter-hatch/
LOCATION:Kitchener Waterloo Art Gallery\, 101 Queen St N\, Kitchener\, Ontario\, N2H6P7\, Canada
ATTACH;FMTTYPE=image/jpeg:https://openears.ca/wp-content/uploads/2026/02/2026-Hatch.jpg
END:VEVENT
END:VCALENDAR