BEGIN:VCALENDAR
VERSION:2.0
PRODID:-//Open Ears - ECPv6.15.20//NONSGML v1.0//EN
CALSCALE:GREGORIAN
METHOD:PUBLISH
X-WR-CALNAME:Open Ears
X-ORIGINAL-URL:https://openears.ca
X-WR-CALDESC:Events for Open Ears
REFRESH-INTERVAL;VALUE=DURATION:PT1H
X-Robots-Tag:noindex
X-PUBLISHED-TTL:PT1H
BEGIN:VTIMEZONE
TZID:America/New_York
BEGIN:DAYLIGHT
TZOFFSETFROM:-0500
TZOFFSETTO:-0400
TZNAME:EDT
DTSTART:20240310T070000
END:DAYLIGHT
BEGIN:STANDARD
TZOFFSETFROM:-0400
TZOFFSETTO:-0500
TZNAME:EST
DTSTART:20241103T060000
END:STANDARD
BEGIN:DAYLIGHT
TZOFFSETFROM:-0500
TZOFFSETTO:-0400
TZNAME:EDT
DTSTART:20250309T070000
END:DAYLIGHT
BEGIN:STANDARD
TZOFFSETFROM:-0400
TZOFFSETTO:-0500
TZNAME:EST
DTSTART:20251102T060000
END:STANDARD
BEGIN:DAYLIGHT
TZOFFSETFROM:-0500
TZOFFSETTO:-0400
TZNAME:EDT
DTSTART:20260308T070000
END:DAYLIGHT
BEGIN:STANDARD
TZOFFSETFROM:-0400
TZOFFSETTO:-0500
TZNAME:EST
DTSTART:20261101T060000
END:STANDARD
END:VTIMEZONE
BEGIN:VEVENT
DTSTART;TZID=America/New_York:20250601T150000
DTEND;TZID=America/New_York:20250601T150000
DTSTAMP:20260422T034256
CREATED:20250402T185744Z
LAST-MODIFIED:20260318T145450Z
UID:1974-1748790000-1748790000@openears.ca
SUMMARY:Ringdown
DESCRIPTION:Ringdown’s music is like calling your first love on a rotary telephone\, percussively tearing out the hammers from a 1924 vintage upright\, and flinging each of them into space while you wait for every heartache you’ve ever felt to quietly return. Collaborators Caroline Shaw and Danni Lee Parpan—who between the two of them have a Pulitzer Prize\, a handful of Grammys\, and a “Best Drum Major” Award—describe Ringdown as an electronic cinematic pop duo based in Portland\, OR and New York\, NY. Others have described Ringdown as the love child of Johannes Brahms and Brandi Carlile—if they were born in the same century and if Brahms was a queer woman. You decide.
URL:https://openears.ca/event/ringdown/
LOCATION:Conrad Centre for the Performing Arts\, 36 King St W\, Kitchener\, Ontario\, N2G1A3\, Canada
ATTACH;FMTTYPE=image/jpeg:https://openears.ca/wp-content/uploads/2025/04/2025-Ringdown-Caroline-Shaw-scaled-P7HE5e.tmp_.jpg
END:VEVENT
END:VCALENDAR