BEGIN:VCALENDAR
VERSION:2.0
PRODID:-//Open Ears - ECPv6.15.20//NONSGML v1.0//EN
CALSCALE:GREGORIAN
METHOD:PUBLISH
X-WR-CALNAME:Open Ears
X-ORIGINAL-URL:https://openears.ca
X-WR-CALDESC:Events for Open Ears
REFRESH-INTERVAL;VALUE=DURATION:PT1H
X-Robots-Tag:noindex
X-PUBLISHED-TTL:PT1H
BEGIN:VTIMEZONE
TZID:America/New_York
BEGIN:DAYLIGHT
TZOFFSETFROM:-0500
TZOFFSETTO:-0400
TZNAME:EDT
DTSTART:20250309T070000
END:DAYLIGHT
BEGIN:STANDARD
TZOFFSETFROM:-0400
TZOFFSETTO:-0500
TZNAME:EST
DTSTART:20251102T060000
END:STANDARD
BEGIN:DAYLIGHT
TZOFFSETFROM:-0500
TZOFFSETTO:-0400
TZNAME:EDT
DTSTART:20260308T070000
END:DAYLIGHT
BEGIN:STANDARD
TZOFFSETFROM:-0400
TZOFFSETTO:-0500
TZNAME:EST
DTSTART:20261101T060000
END:STANDARD
BEGIN:DAYLIGHT
TZOFFSETFROM:-0500
TZOFFSETTO:-0400
TZNAME:EDT
DTSTART:20270314T070000
END:DAYLIGHT
BEGIN:STANDARD
TZOFFSETFROM:-0400
TZOFFSETTO:-0500
TZNAME:EST
DTSTART:20271107T060000
END:STANDARD
END:VTIMEZONE
BEGIN:VEVENT
DTSTART;TZID=America/New_York:20260604T200000
DTEND;TZID=America/New_York:20260604T200000
DTSTAMP:20260421T224120
CREATED:20260401T040035Z
LAST-MODIFIED:20260331T035140Z
UID:2247-1780603200-1780603200@openears.ca
SUMMARY:The Happenstancers
DESCRIPTION:In FUTURE PASTORALE\, three performers create a path connecting the past and future. Using Claude Vivier’s rarely-performed and enigmatic Ojikawa as a foundation\, the artists construct an evening of collaboratively-composed/improvised acoustic and electronic performances that explore the imagined pastoral expanses of antiquity and link them to the endless digital landscapes of tomorrow. This work features poems from William Blake’s Songs of Innocence as well as text manipulations and generative poetry created by the performers with tools utilizing artificial intelligence. Taking inspiration from the Knee Plays of Philip Glass’ Einstein on the Beach\, these texts are then fragmented and layered.\nFraming Vivier’s work with spoken-word recitations and collaboratively-composed works by Cherwin\, Pino\, and Young\, FUTURE PASTORALE challenges the expectations of Vivier’s forward-thinking and experimental trio. Recasting Vivier’s work as nostalgic and historical — in a subtle upending of the expected understanding of Ojikawa as contemporary — FUTURE PASTORALE envisions expansive new possibilities for the chamber music recital\, blending abstract narrative\, improvisation\, spoken word poetry\, collaborative composition\, and theatrical lighting to evoke a future that is equal parts celestial and computerized.
URL:https://openears.ca/event/the-happenstancers/
LOCATION:The Registry Theatre\, 122 Frederick Street\, Kitchener\, Ontario\, N2H 2L9\, Canada
ATTACH;FMTTYPE=image/jpeg:https://openears.ca/wp-content/uploads/2026/02/2026-Happenstancers.jpg
END:VEVENT
END:VCALENDAR