BEGIN:VCALENDAR
VERSION:2.0
PRODID:-//Open Ears - ECPv6.15.20//NONSGML v1.0//EN
CALSCALE:GREGORIAN
METHOD:PUBLISH
X-WR-CALNAME:Open Ears
X-ORIGINAL-URL:https://openears.ca
X-WR-CALDESC:Events for Open Ears
REFRESH-INTERVAL;VALUE=DURATION:PT1H
X-Robots-Tag:noindex
X-PUBLISHED-TTL:PT1H
BEGIN:VTIMEZONE
TZID:America/New_York
BEGIN:DAYLIGHT
TZOFFSETFROM:-0500
TZOFFSETTO:-0400
TZNAME:EDT
DTSTART:20250309T070000
END:DAYLIGHT
BEGIN:STANDARD
TZOFFSETFROM:-0400
TZOFFSETTO:-0500
TZNAME:EST
DTSTART:20251102T060000
END:STANDARD
BEGIN:DAYLIGHT
TZOFFSETFROM:-0500
TZOFFSETTO:-0400
TZNAME:EDT
DTSTART:20260308T070000
END:DAYLIGHT
BEGIN:STANDARD
TZOFFSETFROM:-0400
TZOFFSETTO:-0500
TZNAME:EST
DTSTART:20261101T060000
END:STANDARD
BEGIN:DAYLIGHT
TZOFFSETFROM:-0500
TZOFFSETTO:-0400
TZNAME:EDT
DTSTART:20270314T070000
END:DAYLIGHT
BEGIN:STANDARD
TZOFFSETFROM:-0400
TZOFFSETTO:-0500
TZNAME:EST
DTSTART:20271107T060000
END:STANDARD
END:VTIMEZONE
BEGIN:VEVENT
DTSTART;TZID=America/New_York:20260606T180000
DTEND;TZID=America/New_York:20260606T190000
DTSTAMP:20260421T224113
CREATED:20260401T040034Z
LAST-MODIFIED:20260331T035612Z
UID:2255-1780768800-1780772400@openears.ca
SUMMARY:Workshop with Duo Cichorium
DESCRIPTION:Improv\nJaz Tsui facilitates an improvisation workshop and discussion\, covering a variety of practical and philosophical entry points to the craft\, drawing on their years of experience as an improviser. This will be a session that caters to all levels of improviser with the emphasis on creative exploration\, responsiveness\, and going beyond one’s own comfort zone in the pursuit of developing one’s unique artistic voice. The workshop will include listening and playing activities\, as well as a question/discussion period.
URL:https://openears.ca/event/workshop-with-duo-cichorium/
LOCATION:Church of Good Shepherd\, 116 Queen St N\, Kitchener\, Ontario\, N2H 2H7\, Canada
ATTACH;FMTTYPE=image/jpeg:https://openears.ca/wp-content/uploads/2026/02/2026-Duo-Cichorium-Workshop.jpg
END:VEVENT
END:VCALENDAR